BEGIN:VCALENDAR
VERSION:2.0
PRODID:-//Ondernemend Hillegom - ECPv6.15.18//NONSGML v1.0//EN
CALSCALE:GREGORIAN
METHOD:PUBLISH
X-WR-CALNAME:Ondernemend Hillegom
X-ORIGINAL-URL:https://ondernemendhillegom.nl
X-WR-CALDESC:Evenementen voor Ondernemend Hillegom
REFRESH-INTERVAL;VALUE=DURATION:PT1H
X-Robots-Tag:noindex
X-PUBLISHED-TTL:PT1H
BEGIN:VTIMEZONE
TZID:Europe/Amsterdam
BEGIN:DAYLIGHT
TZOFFSETFROM:+0100
TZOFFSETTO:+0200
TZNAME:CEST
DTSTART:20240331T010000
END:DAYLIGHT
BEGIN:STANDARD
TZOFFSETFROM:+0200
TZOFFSETTO:+0100
TZNAME:CET
DTSTART:20241027T010000
END:STANDARD
BEGIN:DAYLIGHT
TZOFFSETFROM:+0100
TZOFFSETTO:+0200
TZNAME:CEST
DTSTART:20250330T010000
END:DAYLIGHT
BEGIN:STANDARD
TZOFFSETFROM:+0200
TZOFFSETTO:+0100
TZNAME:CET
DTSTART:20251026T010000
END:STANDARD
BEGIN:DAYLIGHT
TZOFFSETFROM:+0100
TZOFFSETTO:+0200
TZNAME:CEST
DTSTART:20260329T010000
END:DAYLIGHT
BEGIN:STANDARD
TZOFFSETFROM:+0200
TZOFFSETTO:+0100
TZNAME:CET
DTSTART:20261025T010000
END:STANDARD
END:VTIMEZONE
BEGIN:VEVENT
DTSTART;TZID=Europe/Amsterdam:20250312T193000
DTEND;TZID=Europe/Amsterdam:20250312T220000
DTSTAMP:20260420T123221
CREATED:20250116T132122Z
LAST-MODIFIED:20250116T133626Z
UID:19545-1741807800-1741816800@ondernemendhillegom.nl
SUMMARY:Bedrijfsbezoek Unidex
DESCRIPTION:Woensdag 12 maart is er een bedrijfsbezoek bij Unidex.\nInloop: 19.30\nStart: 20.00 \nWij zorgen voor de hapjes en drankjes. \nAanmelden kan via info@ondernemendhillegom.nl. \n 
URL:https://ondernemendhillegom.nl/evenementen/bedrijfsbezoek-unidex/
LOCATION:Unidex\, Beeklaan 18\, De Zilk\, Netherlands
ATTACH;FMTTYPE=image/jpeg:https://ondernemendhillegom.nl/wp-content/uploads/2025/01/1631306772890.jpeg
END:VEVENT
END:VCALENDAR