BEGIN:VCALENDAR
VERSION:2.0
PRODID:-//Ondernemend Hillegom - ECPv6.15.20//NONSGML v1.0//EN
CALSCALE:GREGORIAN
METHOD:PUBLISH
X-ORIGINAL-URL:https://ondernemendhillegom.nl
X-WR-CALDESC:Evenementen voor Ondernemend Hillegom
REFRESH-INTERVAL;VALUE=DURATION:PT1H
X-Robots-Tag:noindex
X-PUBLISHED-TTL:PT1H
BEGIN:VTIMEZONE
TZID:Europe/Amsterdam
BEGIN:DAYLIGHT
TZOFFSETFROM:+0100
TZOFFSETTO:+0200
TZNAME:CEST
DTSTART:20220327T010000
END:DAYLIGHT
BEGIN:STANDARD
TZOFFSETFROM:+0200
TZOFFSETTO:+0100
TZNAME:CET
DTSTART:20221030T010000
END:STANDARD
BEGIN:DAYLIGHT
TZOFFSETFROM:+0100
TZOFFSETTO:+0200
TZNAME:CEST
DTSTART:20230326T010000
END:DAYLIGHT
BEGIN:STANDARD
TZOFFSETFROM:+0200
TZOFFSETTO:+0100
TZNAME:CET
DTSTART:20231029T010000
END:STANDARD
BEGIN:DAYLIGHT
TZOFFSETFROM:+0100
TZOFFSETTO:+0200
TZNAME:CEST
DTSTART:20240331T010000
END:DAYLIGHT
BEGIN:STANDARD
TZOFFSETFROM:+0200
TZOFFSETTO:+0100
TZNAME:CET
DTSTART:20241027T010000
END:STANDARD
END:VTIMEZONE
BEGIN:VEVENT
DTSTART;VALUE=DATE:20231023
DTEND;VALUE=DATE:20231024
DTSTAMP:20260421T204103
CREATED:20230131T221715Z
LAST-MODIFIED:20231005T150158Z
UID:1345-1698019200-1698105599@ondernemendhillegom.nl
SUMMARY:Thema-avond - in combinatie met ledenvergadering
DESCRIPTION:Ledenvergadering en Bedrijfsbezoek\nbij Brouwer installatiebedrijf\nThema: “Duurzaam Ondernemen”\n\n\n\n\n\n\nBeste collega-ondernemers\, \nMaandag 23 oktober is onze ledenvergadering met bedrijfsbezoek in samenwerking met ZakelijkZuiniger. U bent deze avond van harte welkom \nbij V.O.F. Brouwer Installatiebedrijf. \nWe starten met een korte ledenvergadering\, waarna Brouwer installatiebedrijf ons welkom heet. Frank Brouwer verteld gelijk meer over de warmtepomp. Vervolgens is er ruimte voor 3 sprekers: ZakelijkZuiniger\, Experion (zonnepanelen en opslag) en DBL (beschikbare subsidies\, investeringen etc.) Uiteraard sluiten we af met een hapje & drankje! \nPraktische informatie: \n\nDe presentatie zal beginnen om 20:00uur\, inloop vanaf 19:30.\nAdres: Satellietbaan 15-D\nAanmelding verplicht via info@ondernemendhillegom.nl\n\nWij kijken er naar uit om u te mogen ontvangen! \nMet vriendelijke groet\, \nHet bestuur van Ondernemend Hillegom
URL:https://ondernemendhillegom.nl/evenementen/thema-avond-copy-copy/
ATTACH;FMTTYPE=image/jpeg:https://ondernemendhillegom.nl/wp-content/uploads/2023/01/pexels-fauxels-3183170-scaled.jpg
END:VEVENT
END:VCALENDAR