BEGIN:VCALENDAR
VERSION:2.0
PRODID:-//Ondernemend Hillegom - ECPv6.15.20//NONSGML v1.0//EN
CALSCALE:GREGORIAN
METHOD:PUBLISH
X-ORIGINAL-URL:https://ondernemendhillegom.nl
X-WR-CALDESC:Evenementen voor Ondernemend Hillegom
REFRESH-INTERVAL;VALUE=DURATION:PT1H
X-Robots-Tag:noindex
X-PUBLISHED-TTL:PT1H
BEGIN:VTIMEZONE
TZID:Europe/Amsterdam
BEGIN:DAYLIGHT
TZOFFSETFROM:+0100
TZOFFSETTO:+0200
TZNAME:CEST
DTSTART:20220327T010000
END:DAYLIGHT
BEGIN:STANDARD
TZOFFSETFROM:+0200
TZOFFSETTO:+0100
TZNAME:CET
DTSTART:20221030T010000
END:STANDARD
BEGIN:DAYLIGHT
TZOFFSETFROM:+0100
TZOFFSETTO:+0200
TZNAME:CEST
DTSTART:20230326T010000
END:DAYLIGHT
BEGIN:STANDARD
TZOFFSETFROM:+0200
TZOFFSETTO:+0100
TZNAME:CET
DTSTART:20231029T010000
END:STANDARD
BEGIN:DAYLIGHT
TZOFFSETFROM:+0100
TZOFFSETTO:+0200
TZNAME:CEST
DTSTART:20240331T010000
END:DAYLIGHT
BEGIN:STANDARD
TZOFFSETFROM:+0200
TZOFFSETTO:+0100
TZNAME:CET
DTSTART:20241027T010000
END:STANDARD
END:VTIMEZONE
BEGIN:VEVENT
DTSTART;TZID=Europe/Amsterdam:20230614T193000
DTEND;TZID=Europe/Amsterdam:20230614T220000
DTSTAMP:20260422T032115
CREATED:20230131T220919Z
LAST-MODIFIED:20230612T152550Z
UID:1328-1686771000-1686780000@ondernemendhillegom.nl
SUMMARY:Thema-avond > AFGELAST
DESCRIPTION:LET OP: DEZE AVOND IS (VOORALSNOG) GECANCELD. WE PLANNEN EEN NIEUWE DATUM IN\n\nPowersessie – Flirten met klanten\neen interactieve avond voor ondernemers\nOp woensdagavond 14 juni organiseert Ondernemend Hillegom een zeer waardevolle interactieve bijeenkomst met Chantal Riedeman van Shopology. Een avond voor ondernemers die meer omzet willen genereren\, meer werkplezier en meer blije klanten want een blije klant geeft gemiddeld 16% meer uit dan een tevreden klant! \nChantal zal ons meenemen in de 3 gouden flirt-technieken die werken in élke branche en voor al je klanten. Het maakt ook niet uit of het gaat om externe klanten of interne klanten en ze werken ook fantastisch thuis en in de kroeg. \nDeelname is gratis en de drankjes worden aangeboden door Ondernemend Hillegom  \nOnderwerpen die Chantal zal behandelen  \n\nWaarom zorgen voor Fans\, wat is de waarde van blije gasten en klanten?\nWaarom zou “ik” voor jouw bedrijf (blijven) kiezen?\nWat zijn breingeheimen en hoe pas je dit toe?\nHoe word je een Paarse Koe?\nWat is de ultieme klantbeleving\nWat zijn de drie Gouden Flirt technieken?\n\nProgramma  \n\n19.30-20.00 inloop\n20.00-21.30 Interactieve powersessie “Flirten met Klanten” (met korte pauze van ca 5-10 min)\nrond 21.30 Afsluiting en aansluitend een borrelmailto:info@ondernemendhillegom?subject=Aanmelden voor thema avond 14 juni\n\nAanmelden kan via het contactformulier of klik hier om aan te melden via e-mail
URL:https://ondernemendhillegom.nl/evenementen/shopology/
LOCATION:Kulturele Raad\, Pr. Irenelaan 16\, Hillegom\, 2181 CZ
ATTACH;FMTTYPE=image/jpeg:https://ondernemendhillegom.nl/wp-content/uploads/2023/01/pexels-shvets-production-7176026-scaled.jpg
END:VEVENT
BEGIN:VEVENT
DTSTART;VALUE=DATE:20230624
DTEND;VALUE=DATE:20230625
DTSTAMP:20260422T032115
CREATED:20230201T095820Z
LAST-MODIFIED:20230201T095831Z
UID:1367-1687564800-1687651199@ondernemendhillegom.nl
SUMMARY:Hillegoms Muziekfeest
DESCRIPTION:HET ALLER GROOTSTE MUZIEKFEEST IN DE BOLLENSTREEK\nGROOTS PODIUM\, DE LEUKSTE MUZIEK\, DE LEKKERSTE DRANKJES EN NATUURLIJK DANSEN EN SPRINGEN MET ONZE TOPARTIESTEN GENIETEN IN DE MOOIE HOFTUIN NATUURLIJK IN HILLEGOM \nHet Hillegoms Muziekfeest is dit jaar op zaterdag 24 juni 2023. De locatie is ongewijzigd in de Hoftuin van Hillegom (Hoofdstraat 115). De artiesten voor het Hillegoms Muziekfeest 2023 zullen in de loop de lente van 2023 bekend gemaakt worden! Houd de website en socialmedia goed in de gaten: https://hillegomsmuziekfeest.nl/
URL:https://ondernemendhillegom.nl/evenementen/hillegoms-muziekfeest/
ATTACH;FMTTYPE=image/jpeg:https://ondernemendhillegom.nl/wp-content/uploads/2023/02/mf.jpg
END:VEVENT
BEGIN:VEVENT
DTSTART;TZID=Europe/Amsterdam:20230627T193000
DTEND;TZID=Europe/Amsterdam:20230627T213000
DTSTAMP:20260422T032115
CREATED:20230512T072824Z
LAST-MODIFIED:20230512T073007Z
UID:1766-1687894200-1687901400@ondernemendhillegom.nl
SUMMARY:OH - gemeenteraad
DESCRIPTION:Speciaal voor alle gemeenteraadsleden en andere geïnteresseerden van de gemeente: \nTijdens deze avond praten we je bij over de stappen die wij als nieuwe ondernemersvereniging gemaakt hebben\, de kansen die we zien en de plannen die we gemaakt hebben voor de komende jaren. Onze ambitie is groot en daarom presenteren wij nu al de contouren van ons voorstel voor een ondernemersfonds. We kijken er enorm naar uit jullie bij te praten\, tot de 27ste! \nDe locatie is een leegstaand pand in het centrum\, het exacte pand delen we een aantal dagen van te voren\, omdat we verhuur niet tegen willen gaan. \nVooraf aanmelden wordt gewaardeerd en kan via: https://forms.gle/wpjyxtAfYh3EArxDA
URL:https://ondernemendhillegom.nl/evenementen/gemeenteraad/
ATTACH;FMTTYPE=image/png:https://ondernemendhillegom.nl/wp-content/uploads/2023/05/Gemeente.png
END:VEVENT
END:VCALENDAR