BEGIN:VCALENDAR
VERSION:2.0
PRODID:-//Ondernemend Hillegom - ECPv6.15.20//NONSGML v1.0//EN
CALSCALE:GREGORIAN
METHOD:PUBLISH
X-ORIGINAL-URL:https://ondernemendhillegom.nl
X-WR-CALDESC:Evenementen voor Ondernemend Hillegom
REFRESH-INTERVAL;VALUE=DURATION:PT1H
X-Robots-Tag:noindex
X-PUBLISHED-TTL:PT1H
BEGIN:VTIMEZONE
TZID:Europe/Amsterdam
BEGIN:DAYLIGHT
TZOFFSETFROM:+0100
TZOFFSETTO:+0200
TZNAME:CEST
DTSTART:20220327T010000
END:DAYLIGHT
BEGIN:STANDARD
TZOFFSETFROM:+0200
TZOFFSETTO:+0100
TZNAME:CET
DTSTART:20221030T010000
END:STANDARD
BEGIN:DAYLIGHT
TZOFFSETFROM:+0100
TZOFFSETTO:+0200
TZNAME:CEST
DTSTART:20230326T010000
END:DAYLIGHT
BEGIN:STANDARD
TZOFFSETFROM:+0200
TZOFFSETTO:+0100
TZNAME:CET
DTSTART:20231029T010000
END:STANDARD
BEGIN:DAYLIGHT
TZOFFSETFROM:+0100
TZOFFSETTO:+0200
TZNAME:CEST
DTSTART:20240331T010000
END:DAYLIGHT
BEGIN:STANDARD
TZOFFSETFROM:+0200
TZOFFSETTO:+0100
TZNAME:CET
DTSTART:20241027T010000
END:STANDARD
END:VTIMEZONE
BEGIN:VEVENT
DTSTART;TZID=Europe/Amsterdam:20230505T140000
DTEND;TZID=Europe/Amsterdam:20230505T220000
DTSTAMP:20260422T045503
CREATED:20230403T174843Z
LAST-MODIFIED:20230403T174843Z
UID:1711-1683295200-1683324000@ondernemendhillegom.nl
SUMMARY:Beats & Bulbs Festival
DESCRIPTION:5 mei 2023 – Aanvang 14:00 uur – van Nispenpark\, Hillegom \nTickets 10 euro\, kinderen tot 12 jaar gratis (mits onder begeleiding van een volwassene) \nHeeren van Haerlem\, Stickytire\, Randome one\, Wee Wallets\, Keytone Cops\, Quite Simple\, Ledzgopurple \nhttps://www.beatsenbulbsfestival.nl/
URL:https://ondernemendhillegom.nl/evenementen/beats-bulbs-festival/
ATTACH;FMTTYPE=image/jpeg:https://ondernemendhillegom.nl/wp-content/uploads/2023/04/5-mei.jpeg
END:VEVENT
BEGIN:VEVENT
DTSTART;TZID=Europe/Amsterdam:20230515T193000
DTEND;TZID=Europe/Amsterdam:20230515T213000
DTSTAMP:20260422T045503
CREATED:20230131T220739Z
LAST-MODIFIED:20230506T193659Z
UID:1326-1684179000-1684186200@ondernemendhillegom.nl
SUMMARY:Ledenvergadering 2 - Ondernemerscafé
DESCRIPTION:Op maandag 15 mei is er een Ondernemerscafé \nLocatie: Borreltijd – wijn & spijs. Hoofdstraat 107 Hillegom \nInloop vanaf 19:30 uur\nAanvang bijeenkomst 20:00 uur \nTijdens ons ondernemerscafé praten wij je bij over de stappen die we gemaakt hebben voor het ondernemersfonds\, we geven je inzicht in de plannen en bespreken de mogelijkheden voor onze budgetten. Je bent van harte welkom\, de avond is voor alle ondernemers van Hillegom. Ook als je nog geen lid bent van Ondernemend Hillegom. Aanmelden graag via het aanmeldt formulier: LINK
URL:https://ondernemendhillegom.nl/evenementen/ledenvergadering-stuurgroep-copy/
LOCATION:Borreltijd Wijn&Spijs\, Hoofdstraat 107\, Hillegom\, 2181EC\, Nederland
ATTACH;FMTTYPE=image/jpeg:https://ondernemendhillegom.nl/wp-content/uploads/2023/01/OC.jpg
END:VEVENT
END:VCALENDAR