BEGIN:VCALENDAR
VERSION:2.0
PRODID:-//Ondernemend Hillegom - ECPv6.15.18//NONSGML v1.0//EN
CALSCALE:GREGORIAN
METHOD:PUBLISH
X-ORIGINAL-URL:https://ondernemendhillegom.nl
X-WR-CALDESC:Evenementen voor Ondernemend Hillegom
REFRESH-INTERVAL;VALUE=DURATION:PT1H
X-Robots-Tag:noindex
X-PUBLISHED-TTL:PT1H
BEGIN:VTIMEZONE
TZID:Europe/Amsterdam
BEGIN:DAYLIGHT
TZOFFSETFROM:+0100
TZOFFSETTO:+0200
TZNAME:CEST
DTSTART:20230326T010000
END:DAYLIGHT
BEGIN:STANDARD
TZOFFSETFROM:+0200
TZOFFSETTO:+0100
TZNAME:CET
DTSTART:20231029T010000
END:STANDARD
BEGIN:DAYLIGHT
TZOFFSETFROM:+0100
TZOFFSETTO:+0200
TZNAME:CEST
DTSTART:20240331T010000
END:DAYLIGHT
BEGIN:STANDARD
TZOFFSETFROM:+0200
TZOFFSETTO:+0100
TZNAME:CET
DTSTART:20241027T010000
END:STANDARD
BEGIN:DAYLIGHT
TZOFFSETFROM:+0100
TZOFFSETTO:+0200
TZNAME:CEST
DTSTART:20250330T010000
END:DAYLIGHT
BEGIN:STANDARD
TZOFFSETFROM:+0200
TZOFFSETTO:+0100
TZNAME:CET
DTSTART:20251026T010000
END:STANDARD
END:VTIMEZONE
BEGIN:VEVENT
DTSTART;VALUE=DATE:20241115
DTEND;VALUE=DATE:20241116
DTSTAMP:20260420T211943
CREATED:20241028T161558Z
LAST-MODIFIED:20241031T164132Z
UID:19372-1731628800-1731715199@ondernemendhillegom.nl
SUMMARY:Dag van de Ondernemer
DESCRIPTION:De dag van de ondernemer organiseren wij geen evenement\, maar we staat wel graag bij deze dag stil! MKB Nederland vindt dit namelijk een belangrijke dag & dat zijn we wel met ze eens! Waarom? \nEr bestaat voor alles en iedereen een aparte dag: een Dag van de Bouw\, Secretaressedag\, Moederdag. Maar er was nog geen ‘Dag van de Ondernemer’. En dit terwijl er in Nederland ruim 1\,5 miljoen ondernemers zijn die met hun bedrijf van enorme toegevoegde waarde zijn voor ons land. Ondernemers creëren immers groei\, banen en welvaart. \nMKB-Nederland vindt dat ondernemers respect verdienen voor hun inzet en dat er een moment moet zijn waarop aandacht wordt gegeven aan het belang van ondernemers voor Nederland. Een dag waarop ondernemers worden bedankt voor hun durf en doorzettingsvermogen. De start van een traditie om het ondernemerschap te vieren\, ondernemers te bedanken en in het zonnetje te zetten. \nDaarom heeft MKB-Nederland elke derde vrijdag van november uitgeroepen tot ‘Dag van de Ondernemer’.\nIn 2024 vieren we de Dag van de Ondernemer op vrijdag 15 november! \nDe Dag van de Ondernemer vindt sinds 2016 plaats in het kader van de Global Entrepreneurship Week\, een wereldwijd initiatief ter promotie van het ondernemerschap. In meer dan 150 landen staat in de derde week van november het ondernemerschap centraal. MKB-Nederland slaat op deze vrijdag de handen ineen met haar Belgische zusterorganisatie Unizo\, de initiatiefnemer van de Vlaamse ‘Dag van de Ondernemer’. \nSamen maken we deze dag groot\nDe Dag van de Ondernemer is voor alle ondernemers. Samen maken we deze dag groot. MKB-Nederland vraagt haar netwerk van brancheorganisaties\, lokale verenigingen\, gemeenten\, Eerste en Tweede Kamerleden\, Europarlementariërs\, bewindspersonen\, kennispartners en nog vele anderen om op vrijdag 15 november de ondernemer in het zonnetje te zetten. \nLEES MEER OP https://www.dagvandeondernemer.nl/
URL:https://ondernemendhillegom.nl/evenementen/dag-van-de-ondernemer/
ATTACH;FMTTYPE=image/jpeg:https://ondernemendhillegom.nl/wp-content/uploads/2024/10/MKB.jpg
END:VEVENT
END:VCALENDAR