BEGIN:VCALENDAR
VERSION:2.0
PRODID:-//Ondernemend Hillegom - ECPv6.15.20//NONSGML v1.0//EN
CALSCALE:GREGORIAN
METHOD:PUBLISH
X-ORIGINAL-URL:https://ondernemendhillegom.nl
X-WR-CALDESC:Evenementen voor Ondernemend Hillegom
REFRESH-INTERVAL;VALUE=DURATION:PT1H
X-Robots-Tag:noindex
X-PUBLISHED-TTL:PT1H
BEGIN:VTIMEZONE
TZID:Europe/Amsterdam
BEGIN:DAYLIGHT
TZOFFSETFROM:+0100
TZOFFSETTO:+0200
TZNAME:CEST
DTSTART:20230326T010000
END:DAYLIGHT
BEGIN:STANDARD
TZOFFSETFROM:+0200
TZOFFSETTO:+0100
TZNAME:CET
DTSTART:20231029T010000
END:STANDARD
BEGIN:DAYLIGHT
TZOFFSETFROM:+0100
TZOFFSETTO:+0200
TZNAME:CEST
DTSTART:20240331T010000
END:DAYLIGHT
BEGIN:STANDARD
TZOFFSETFROM:+0200
TZOFFSETTO:+0100
TZNAME:CET
DTSTART:20241027T010000
END:STANDARD
BEGIN:DAYLIGHT
TZOFFSETFROM:+0100
TZOFFSETTO:+0200
TZNAME:CEST
DTSTART:20250330T010000
END:DAYLIGHT
BEGIN:STANDARD
TZOFFSETFROM:+0200
TZOFFSETTO:+0100
TZNAME:CET
DTSTART:20251026T010000
END:STANDARD
END:VTIMEZONE
BEGIN:VEVENT
DTSTART;VALUE=DATE:20240328
DTEND;VALUE=DATE:20240402
DTSTAMP:20260421T125217
CREATED:20240314T124226Z
LAST-MODIFIED:20240318T104950Z
UID:12873-1711584000-1712015999@ondernemendhillegom.nl
SUMMARY:Paasactie 2024
DESCRIPTION:Beste collega-ondernemers\, nog even en dan is het alweer Pasen \n? Een leuk moment om weer de Paas-Puzzeltocht te doen! ? \n  \nDaarom zoeken 35 etalages in het centrum waar we een letter op mogen hangen\, is dat iets voor jou etalage? Meld je dan gelijk aan via de Centrum WhatsAppgroep\, dan leggen wij een letter voor je klaar (deze kan je dinsdag 26 maart ophalen bij de Readshop). \nDe actie loopt van donderdag 28 tot en met zaterdag 30 maart (maar het zou leuk zijn als de letters ook nog zichtbaar zijn op eerste en tweede paasdag\, haal ze dus pas 2 april weg) \nDe eerste 125 kinderen die het (goed ingevulde) formulier invullen ontvangen een Pierre ijsmuntje! \nFORMULIER > KLIK HIER
URL:https://ondernemendhillegom.nl/evenementen/paasactie-2024/
ATTACH;FMTTYPE=image/jpeg:https://ondernemendhillegom.nl/wp-content/uploads/2024/03/Colorful-Easter-Closed-Business-Poster-1.jpg
END:VEVENT
END:VCALENDAR