BEGIN:VCALENDAR
VERSION:2.0
PRODID:-//Ondernemend Hillegom - ECPv6.15.20//NONSGML v1.0//EN
CALSCALE:GREGORIAN
METHOD:PUBLISH
X-ORIGINAL-URL:https://ondernemendhillegom.nl
X-WR-CALDESC:Evenementen voor Ondernemend Hillegom
REFRESH-INTERVAL;VALUE=DURATION:PT1H
X-Robots-Tag:noindex
X-PUBLISHED-TTL:PT1H
BEGIN:VTIMEZONE
TZID:Europe/Amsterdam
BEGIN:DAYLIGHT
TZOFFSETFROM:+0100
TZOFFSETTO:+0200
TZNAME:CEST
DTSTART:20230326T010000
END:DAYLIGHT
BEGIN:STANDARD
TZOFFSETFROM:+0200
TZOFFSETTO:+0100
TZNAME:CET
DTSTART:20231029T010000
END:STANDARD
BEGIN:DAYLIGHT
TZOFFSETFROM:+0100
TZOFFSETTO:+0200
TZNAME:CEST
DTSTART:20240331T010000
END:DAYLIGHT
BEGIN:STANDARD
TZOFFSETFROM:+0200
TZOFFSETTO:+0100
TZNAME:CET
DTSTART:20241027T010000
END:STANDARD
BEGIN:DAYLIGHT
TZOFFSETFROM:+0100
TZOFFSETTO:+0200
TZNAME:CEST
DTSTART:20250330T010000
END:DAYLIGHT
BEGIN:STANDARD
TZOFFSETFROM:+0200
TZOFFSETTO:+0100
TZNAME:CET
DTSTART:20251026T010000
END:STANDARD
END:VTIMEZONE
BEGIN:VEVENT
DTSTART;TZID=Europe/Amsterdam:20240318T200000
DTEND;TZID=Europe/Amsterdam:20240318T220000
DTSTAMP:20260421T130935
CREATED:20240210T113605Z
LAST-MODIFIED:20240210T113605Z
UID:12857-1710792000-1710799200@ondernemendhillegom.nl
SUMMARY:18-03-2024 Ondernemers café
DESCRIPTION:18 maart (20:00 uur) is ons Ondernemers café. Het moment dat wij onze ondernemers graag bij praten over de voortgang van de organisatie. Naast een update\, het officiële stuk (onze ledenvergadering) en de financiële afdracht van de afgelopen twee jaar\, zal er ook ruimte zijn voor input!
URL:https://ondernemendhillegom.nl/evenementen/18-03-2024-ondernemers-cafe/
ATTACH;FMTTYPE=image/png:https://ondernemendhillegom.nl/wp-content/uploads/2023/05/Gemeente.png
END:VEVENT
END:VCALENDAR