BEGIN:VCALENDAR
VERSION:2.0
PRODID:-//Ondernemend Hillegom - ECPv6.15.20//NONSGML v1.0//EN
CALSCALE:GREGORIAN
METHOD:PUBLISH
X-WR-CALNAME:Ondernemend Hillegom
X-ORIGINAL-URL:https://ondernemendhillegom.nl
X-WR-CALDESC:Evenementen voor Ondernemend Hillegom
REFRESH-INTERVAL;VALUE=DURATION:PT1H
X-Robots-Tag:noindex
X-PUBLISHED-TTL:PT1H
BEGIN:VTIMEZONE
TZID:Europe/Amsterdam
BEGIN:DAYLIGHT
TZOFFSETFROM:+0100
TZOFFSETTO:+0200
TZNAME:CEST
DTSTART:20230326T010000
END:DAYLIGHT
BEGIN:STANDARD
TZOFFSETFROM:+0200
TZOFFSETTO:+0100
TZNAME:CET
DTSTART:20231029T010000
END:STANDARD
BEGIN:DAYLIGHT
TZOFFSETFROM:+0100
TZOFFSETTO:+0200
TZNAME:CEST
DTSTART:20240331T010000
END:DAYLIGHT
BEGIN:STANDARD
TZOFFSETFROM:+0200
TZOFFSETTO:+0100
TZNAME:CET
DTSTART:20241027T010000
END:STANDARD
BEGIN:DAYLIGHT
TZOFFSETFROM:+0100
TZOFFSETTO:+0200
TZNAME:CEST
DTSTART:20250330T010000
END:DAYLIGHT
BEGIN:STANDARD
TZOFFSETFROM:+0200
TZOFFSETTO:+0100
TZNAME:CET
DTSTART:20251026T010000
END:STANDARD
END:VTIMEZONE
BEGIN:VEVENT
DTSTART;TZID=Europe/Amsterdam:20240110T200000
DTEND;TZID=Europe/Amsterdam:20240110T230000
DTSTAMP:20260421T161213
CREATED:20231227T084004Z
LAST-MODIFIED:20231227T084004Z
UID:12842-1704916800-1704927600@ondernemendhillegom.nl
SUMMARY:Nieuwjaarsborrel - 10 januari 2024
DESCRIPTION:Beste collega-ondernemers\, \nWoensdag 10 januari aanstaande ontvangen wij u graag in café De Kleine Beurs\, om gezamenlijk te proosten op het nieuwe jaar! \nDe deelname is gratis voor alle ondernemers in Hillegom\, want op deze manier proberen wij juist een brug te slaan tussen de grote ondernemingen en de kleine(re) ZZP-er. Of u nu een winkel in de Hoofdstraat heeft\, of een gigantische loods op een industrieterrein\, elke Hillegomse ondernemer is van harte welkom! We vinden het daarom heel fijn als u een collega-ondernemer meeneemt\, dus wie vraag jij mee? \nPraktische informatie: \n\nWe starten om 20:00 uur\, inloop vanaf 19:30 uur;\nAdres: café De Kleine Beurs (Hoofdstraat 38-A).\n\nAanmelding verplicht via info@ondernemendhillegom.nl of via de contactpagina van onze website: https://ondernemendhillegom.nl/contact/ \nWij kijken er naar uit om u te mogen ontvangen! \nMet vriendelijke groet\, \nHet bestuur van Ondernemend Hillegom \n  \n 
URL:https://ondernemendhillegom.nl/evenementen/nieuwjaarsborrel-10-januari-2024/
ATTACH;FMTTYPE=image/png:https://ondernemendhillegom.nl/wp-content/uploads/2023/12/10-01.png
END:VEVENT
END:VCALENDAR