BEGIN:VCALENDAR
VERSION:2.0
PRODID:-//Ondernemend Hillegom - ECPv6.15.20//NONSGML v1.0//EN
CALSCALE:GREGORIAN
METHOD:PUBLISH
X-WR-CALNAME:Ondernemend Hillegom
X-ORIGINAL-URL:https://ondernemendhillegom.nl
X-WR-CALDESC:Evenementen voor Ondernemend Hillegom
REFRESH-INTERVAL;VALUE=DURATION:PT1H
X-Robots-Tag:noindex
X-PUBLISHED-TTL:PT1H
BEGIN:VTIMEZONE
TZID:Europe/Amsterdam
BEGIN:DAYLIGHT
TZOFFSETFROM:+0100
TZOFFSETTO:+0200
TZNAME:CEST
DTSTART:20220327T010000
END:DAYLIGHT
BEGIN:STANDARD
TZOFFSETFROM:+0200
TZOFFSETTO:+0100
TZNAME:CET
DTSTART:20221030T010000
END:STANDARD
BEGIN:DAYLIGHT
TZOFFSETFROM:+0100
TZOFFSETTO:+0200
TZNAME:CEST
DTSTART:20230326T010000
END:DAYLIGHT
BEGIN:STANDARD
TZOFFSETFROM:+0200
TZOFFSETTO:+0100
TZNAME:CET
DTSTART:20231029T010000
END:STANDARD
BEGIN:DAYLIGHT
TZOFFSETFROM:+0100
TZOFFSETTO:+0200
TZNAME:CEST
DTSTART:20240331T010000
END:DAYLIGHT
BEGIN:STANDARD
TZOFFSETFROM:+0200
TZOFFSETTO:+0100
TZNAME:CET
DTSTART:20241027T010000
END:STANDARD
END:VTIMEZONE
BEGIN:VEVENT
DTSTART;VALUE=DATE:20230624
DTEND;VALUE=DATE:20230625
DTSTAMP:20260422T031928
CREATED:20230201T095820Z
LAST-MODIFIED:20230201T095831Z
UID:1367-1687564800-1687651199@ondernemendhillegom.nl
SUMMARY:Hillegoms Muziekfeest
DESCRIPTION:HET ALLER GROOTSTE MUZIEKFEEST IN DE BOLLENSTREEK\nGROOTS PODIUM\, DE LEUKSTE MUZIEK\, DE LEKKERSTE DRANKJES EN NATUURLIJK DANSEN EN SPRINGEN MET ONZE TOPARTIESTEN GENIETEN IN DE MOOIE HOFTUIN NATUURLIJK IN HILLEGOM \nHet Hillegoms Muziekfeest is dit jaar op zaterdag 24 juni 2023. De locatie is ongewijzigd in de Hoftuin van Hillegom (Hoofdstraat 115). De artiesten voor het Hillegoms Muziekfeest 2023 zullen in de loop de lente van 2023 bekend gemaakt worden! Houd de website en socialmedia goed in de gaten: https://hillegomsmuziekfeest.nl/
URL:https://ondernemendhillegom.nl/evenementen/hillegoms-muziekfeest/
ATTACH;FMTTYPE=image/jpeg:https://ondernemendhillegom.nl/wp-content/uploads/2023/02/mf.jpg
END:VEVENT
END:VCALENDAR