BEGIN:VCALENDAR
VERSION:2.0
PRODID:-//Ondernemend Hillegom - ECPv6.15.20//NONSGML v1.0//EN
CALSCALE:GREGORIAN
METHOD:PUBLISH
X-ORIGINAL-URL:https://ondernemendhillegom.nl
X-WR-CALDESC:Evenementen voor Ondernemend Hillegom
REFRESH-INTERVAL;VALUE=DURATION:PT1H
X-Robots-Tag:noindex
X-PUBLISHED-TTL:PT1H
BEGIN:VTIMEZONE
TZID:Europe/Amsterdam
BEGIN:DAYLIGHT
TZOFFSETFROM:+0100
TZOFFSETTO:+0200
TZNAME:CEST
DTSTART:20220327T010000
END:DAYLIGHT
BEGIN:STANDARD
TZOFFSETFROM:+0200
TZOFFSETTO:+0100
TZNAME:CET
DTSTART:20221030T010000
END:STANDARD
BEGIN:DAYLIGHT
TZOFFSETFROM:+0100
TZOFFSETTO:+0200
TZNAME:CEST
DTSTART:20230326T010000
END:DAYLIGHT
BEGIN:STANDARD
TZOFFSETFROM:+0200
TZOFFSETTO:+0100
TZNAME:CET
DTSTART:20231029T010000
END:STANDARD
BEGIN:DAYLIGHT
TZOFFSETFROM:+0100
TZOFFSETTO:+0200
TZNAME:CEST
DTSTART:20240331T010000
END:DAYLIGHT
BEGIN:STANDARD
TZOFFSETFROM:+0200
TZOFFSETTO:+0100
TZNAME:CET
DTSTART:20241027T010000
END:STANDARD
END:VTIMEZONE
BEGIN:VEVENT
DTSTART;VALUE=DATE:20230418
DTEND;VALUE=DATE:20230419
DTSTAMP:20260422T074414
CREATED:20230131T220649Z
LAST-MODIFIED:20230325T105919Z
UID:1322-1681776000-1681862399@ondernemendhillegom.nl
SUMMARY:Thema-avond 2: Duurzaamheid
DESCRIPTION:Beste collega-ondernemer\, \n  \nNatuurlijk willen we allemaal verduurzamen\, maar waar begin je? Wat zijn je opties & hoe financier je dit? Dinsdag 18 april 2023 ontvangen wij je graag in de kantine van SV Hillegom voor onze Q2 Thema-avond waar we deze vragen beantwoorden (zie bijlage). Inloop vanaf 19:30 uur\, we starten om 20:00 uur. \n  \nWe hebben de volgende sprekers uitgenodigd: \n  \nBox Duurzaam > Spreker: Peter Marsman \nDeze organisatie geeft advies hoe je kan verduurzamen\, maar regelt het vervolgens ook! Kunnen snel (bv. zonnepanelen\, laadpalen\, isolatie) leveren. In combinatie met Financieel Fit\, zij kunnen zorgen voor Financiering. https://www.boxduurzaam.nl/ \n  \nIMK Instituut voor het midden- en kleinbedrijf > Spreker: Michiel Hordijk \nDeze organisatie helpt je als ondernemer met advies en diensten zodat je weet wat je opties zijn\, je verantwoorde keuzes kunt maken en zelf de regie kan houden. Dit doen zij onder andere met het keurmerk Good Company. Zij kennen de ingangen bij bv de gemeente\, weten waar kansen liggen. https://imk.nl/ \n  \nGMS Group Benelux > Spreker: Yvonne Blijie \nHet samenwerkingsverband GMS is een solide en moderne inkoop- en marketingcoöperatie\, die zich volledig aan de huidige marktverhoudingen heeft aangepast. Kan bijvoorbeeld helpen met financiering (niet bederfelijke) voorraad. https://www.gms-group.nl/ \n  \nDaarnaast schuift Zakelijk Zuiniger aan.  \nServiceloket Zakelijkzuiniger helpt ondernemers met deskundig advies\, bij het verwerven van subsidies en het vinden van lokale en regionale bedrijven die daarbij kunnen helpen. https://www.zakelijkzuiniger.nl/ \n  \nDeze thema-avond is voor alle leden\, maar ook voor alle andere  ondernemers in Hillegom die wellicht lid willen worden. Aangezien we onze ledengroep graag willen laten groeien nodigen wij jullie van harte uit collega ondernemers mee te vragen. \n  \nAanmelden is verplicht en kan tot 24 uur van te voren via onderstaande link: \nAANMELDEN \n  \nTot de 18e! \n 
URL:https://ondernemendhillegom.nl/evenementen/thema-avond/
ATTACH;FMTTYPE=image/jpeg:https://ondernemendhillegom.nl/wp-content/uploads/2023/01/pexels-akil-mazumder-1072824-scaled.jpg
END:VEVENT
END:VCALENDAR