BEGIN:VCALENDAR
VERSION:2.0
PRODID:-//Ondernemend Hillegom - ECPv6.15.20//NONSGML v1.0//EN
CALSCALE:GREGORIAN
METHOD:PUBLISH
X-ORIGINAL-URL:https://ondernemendhillegom.nl
X-WR-CALDESC:Evenementen voor Ondernemend Hillegom
REFRESH-INTERVAL;VALUE=DURATION:PT1H
X-Robots-Tag:noindex
X-PUBLISHED-TTL:PT1H
BEGIN:VTIMEZONE
TZID:Europe/Amsterdam
BEGIN:DAYLIGHT
TZOFFSETFROM:+0100
TZOFFSETTO:+0200
TZNAME:CEST
DTSTART:20220327T010000
END:DAYLIGHT
BEGIN:STANDARD
TZOFFSETFROM:+0200
TZOFFSETTO:+0100
TZNAME:CET
DTSTART:20221030T010000
END:STANDARD
BEGIN:DAYLIGHT
TZOFFSETFROM:+0100
TZOFFSETTO:+0200
TZNAME:CEST
DTSTART:20230326T010000
END:DAYLIGHT
BEGIN:STANDARD
TZOFFSETFROM:+0200
TZOFFSETTO:+0100
TZNAME:CET
DTSTART:20231029T010000
END:STANDARD
BEGIN:DAYLIGHT
TZOFFSETFROM:+0100
TZOFFSETTO:+0200
TZNAME:CEST
DTSTART:20240331T010000
END:DAYLIGHT
BEGIN:STANDARD
TZOFFSETFROM:+0200
TZOFFSETTO:+0100
TZNAME:CET
DTSTART:20241027T010000
END:STANDARD
END:VTIMEZONE
BEGIN:VEVENT
DTSTART;TZID=Europe/Amsterdam:20230415T220000
DTEND;TZID=Europe/Amsterdam:20230416T013000
DTSTAMP:20260422T074345
CREATED:20230226T103212Z
LAST-MODIFIED:20230227T132147Z
UID:1510-1681596000-1681608600@ondernemendhillegom.nl
SUMMARY:Amsterdamse avond - café de Kleine Beurs
DESCRIPTION:Amsterdamse avond in café de Kleine Beurs aanvang 22:00 Zaterdag 15-4-23
URL:https://ondernemendhillegom.nl/evenementen/amsterdamse-avond-cafe-de-kleine-beurs/
ATTACH;FMTTYPE=image/jpeg:https://ondernemendhillegom.nl/wp-content/uploads/2023/02/AMS.jpeg
END:VEVENT
END:VCALENDAR