BEGIN:VCALENDAR
VERSION:2.0
PRODID:-//Ondernemend Hillegom - ECPv6.15.20//NONSGML v1.0//EN
CALSCALE:GREGORIAN
METHOD:PUBLISH
X-ORIGINAL-URL:https://ondernemendhillegom.nl
X-WR-CALDESC:Evenementen voor Ondernemend Hillegom
REFRESH-INTERVAL;VALUE=DURATION:PT1H
X-Robots-Tag:noindex
X-PUBLISHED-TTL:PT1H
BEGIN:VTIMEZONE
TZID:Europe/Amsterdam
BEGIN:DAYLIGHT
TZOFFSETFROM:+0100
TZOFFSETTO:+0200
TZNAME:CEST
DTSTART:20220327T010000
END:DAYLIGHT
BEGIN:STANDARD
TZOFFSETFROM:+0200
TZOFFSETTO:+0100
TZNAME:CET
DTSTART:20221030T010000
END:STANDARD
BEGIN:DAYLIGHT
TZOFFSETFROM:+0100
TZOFFSETTO:+0200
TZNAME:CEST
DTSTART:20230326T010000
END:DAYLIGHT
BEGIN:STANDARD
TZOFFSETFROM:+0200
TZOFFSETTO:+0100
TZNAME:CET
DTSTART:20231029T010000
END:STANDARD
BEGIN:DAYLIGHT
TZOFFSETFROM:+0100
TZOFFSETTO:+0200
TZNAME:CEST
DTSTART:20240331T010000
END:DAYLIGHT
BEGIN:STANDARD
TZOFFSETFROM:+0200
TZOFFSETTO:+0100
TZNAME:CET
DTSTART:20241027T010000
END:STANDARD
END:VTIMEZONE
BEGIN:VEVENT
DTSTART;TZID=Europe/Amsterdam:20230326T130000
DTEND;TZID=Europe/Amsterdam:20230326T170000
DTSTAMP:20260422T103515
CREATED:20230201T084442Z
LAST-MODIFIED:20230201T084442Z
UID:1353-1679835600-1679850000@ondernemendhillegom.nl
SUMMARY:Wijnfestival
DESCRIPTION:Na een fantastische eerste editie in oktober vorig jaar\, gaat het weer gebeuren\, het tweede Hillegomse wijnfestival en wel op zondag 26 maart vanaf 13.00 uur. Gestart wordt om 12.30 uur vanaf de Oude Pomp\, waar de deelnemers zijn of haar route krijgen uitgereikt. Dan ga je heerlijk genieten van een mooi glas wijn of een bubbel\, met een bijpassend gerechtje erbij en ga je na drie kwartier naar de volgende locatie waar weer een ander glas met een hapje klaarstaat. De bedrijven die meedoen zijn: Het Alternatief\, Villa Flora\, B.K.O. en Eetcafé Zomerzorg. \nKaarten zijn te verkrijgen a 30\,00 per persoon zijn uitsluitend tegen contante betaling te verkrijgen bij Vivant Evers aan de Mariastraat 2 in Hillegom of Eetcafé Zomerzorg aan de Meerlaan 70 in Hillegom. Voor meer informatie: info@ac-media.nl of 06 51841259
URL:https://ondernemendhillegom.nl/evenementen/wijnfestival/
ATTACH;FMTTYPE=image/jpeg:https://ondernemendhillegom.nl/wp-content/uploads/2023/02/WhatsApp-Image-2023-02-01-at-09.38.01.jpeg
END:VEVENT
END:VCALENDAR