BEGIN:VCALENDAR
VERSION:2.0
PRODID:-//Ondernemend Hillegom - ECPv6.15.20//NONSGML v1.0//EN
CALSCALE:GREGORIAN
METHOD:PUBLISH
X-WR-CALNAME:Ondernemend Hillegom
X-ORIGINAL-URL:https://ondernemendhillegom.nl
X-WR-CALDESC:Evenementen voor Ondernemend Hillegom
REFRESH-INTERVAL;VALUE=DURATION:PT1H
X-Robots-Tag:noindex
X-PUBLISHED-TTL:PT1H
BEGIN:VTIMEZONE
TZID:Europe/Amsterdam
BEGIN:DAYLIGHT
TZOFFSETFROM:+0100
TZOFFSETTO:+0200
TZNAME:CEST
DTSTART:20220327T010000
END:DAYLIGHT
BEGIN:STANDARD
TZOFFSETFROM:+0200
TZOFFSETTO:+0100
TZNAME:CET
DTSTART:20221030T010000
END:STANDARD
BEGIN:DAYLIGHT
TZOFFSETFROM:+0100
TZOFFSETTO:+0200
TZNAME:CEST
DTSTART:20230326T010000
END:DAYLIGHT
BEGIN:STANDARD
TZOFFSETFROM:+0200
TZOFFSETTO:+0100
TZNAME:CET
DTSTART:20231029T010000
END:STANDARD
BEGIN:DAYLIGHT
TZOFFSETFROM:+0100
TZOFFSETTO:+0200
TZNAME:CEST
DTSTART:20240331T010000
END:DAYLIGHT
BEGIN:STANDARD
TZOFFSETFROM:+0200
TZOFFSETTO:+0100
TZNAME:CET
DTSTART:20241027T010000
END:STANDARD
END:VTIMEZONE
BEGIN:VEVENT
DTSTART;TZID=Europe/Amsterdam:20230317T170000
DTEND;TZID=Europe/Amsterdam:20230318T013000
DTSTAMP:20260422T103420
CREATED:20230218T180242Z
LAST-MODIFIED:20230218T180242Z
UID:1475-1679072400-1679103000@ondernemendhillegom.nl
SUMMARY:St. Patrick's Day - Café de Kleine Beurs
DESCRIPTION:St. Patrick’s Day vier je in het groen! Een typische St. Patrick’s Day-outfit bestaat uit een groen kostuum\, een oranje baard en een hoge hoed. \nVrijdag 17 maart vieren wij dit in café de Kleine Beurs vanaf 17:00 uur. Muziek\, dansen\, drinken en heel veel groen☘️
URL:https://ondernemendhillegom.nl/evenementen/st-patricks-day-cafe-de-kleine-beurs/
ATTACH;FMTTYPE=image/jpeg:https://ondernemendhillegom.nl/wp-content/uploads/2023/02/SPD.jpg
END:VEVENT
END:VCALENDAR