BEGIN:VCALENDAR
VERSION:2.0
PRODID:-//Ondernemend Hillegom - ECPv6.15.20//NONSGML v1.0//EN
CALSCALE:GREGORIAN
METHOD:PUBLISH
X-WR-CALNAME:Ondernemend Hillegom
X-ORIGINAL-URL:https://ondernemendhillegom.nl
X-WR-CALDESC:Evenementen voor Ondernemend Hillegom
REFRESH-INTERVAL;VALUE=DURATION:PT1H
X-Robots-Tag:noindex
X-PUBLISHED-TTL:PT1H
BEGIN:VTIMEZONE
TZID:Europe/Amsterdam
BEGIN:DAYLIGHT
TZOFFSETFROM:+0100
TZOFFSETTO:+0200
TZNAME:CEST
DTSTART:20220327T010000
END:DAYLIGHT
BEGIN:STANDARD
TZOFFSETFROM:+0200
TZOFFSETTO:+0100
TZNAME:CET
DTSTART:20221030T010000
END:STANDARD
BEGIN:DAYLIGHT
TZOFFSETFROM:+0100
TZOFFSETTO:+0200
TZNAME:CEST
DTSTART:20230326T010000
END:DAYLIGHT
BEGIN:STANDARD
TZOFFSETFROM:+0200
TZOFFSETTO:+0100
TZNAME:CET
DTSTART:20231029T010000
END:STANDARD
BEGIN:DAYLIGHT
TZOFFSETFROM:+0100
TZOFFSETTO:+0200
TZNAME:CEST
DTSTART:20240331T010000
END:DAYLIGHT
BEGIN:STANDARD
TZOFFSETFROM:+0200
TZOFFSETTO:+0100
TZNAME:CET
DTSTART:20241027T010000
END:STANDARD
END:VTIMEZONE
BEGIN:VEVENT
DTSTART;TZID=Europe/Amsterdam:20230315T150000
DTEND;TZID=Europe/Amsterdam:20230315T170000
DTSTAMP:20260422T112901
CREATED:20230218T180837Z
LAST-MODIFIED:20230218T180837Z
UID:1478-1678892400-1678899600@ondernemendhillegom.nl
SUMMARY:IJsopening - Chocolaterie Pierre
DESCRIPTION:Het ijsseizoen gaat woensdag 15 maart weer van start bij chocolaterie Pierre en dat wil eigenaar Gert van Soest ook dit jaar weer met een actie vieren: De eerste dag is er tussen 15.00 en 17.00 uur voor alle klanten een gratis ijsje. \nVanaf dan\, tot en met half september kun je bij ons heerlijke Pierre-ijs komen proeven! Het ijs wordt bereid met zorgvuldig geselecteerde grondstoffen die grotendeels uit Italië worden geïmporteerd. Zo komen de pistachenoten uit Sicilië en de hazelnoten uit Piemonte. Daarnaast komt de cacao uit België en de melk\, room en yoghurt natuurlijk uit Nederland. \nOriginaliteit en vakmanschap zijn de beste garantie voor de kwaliteit van ons product. Wij doen geen concessies bij het maken van een keuze voor onze grondstoffen. Bij ons vind je dus een hoogstaand ambachtelijk product dat dagelijks vers bereid wordt met de beste ingrediënten die de natuur te bieden heeft. \nOns assortiment bestaat uit 20 verschillende smaken. American cookies\, banaan\, bosvruchten yoghurt\, caffé mocha\, brownie’s\, hazelnootpraliné\,\, macadamia\, mango\, milk delight\, mojito\, mon cherí\, extra puur\, pindarotsjes\, pistache\, rumrozijnen advocaat\, stoute karamel\, stracciatella\, witte wolke\, zomerkoninkjes\, een wisselende smaak en suikervrij.
URL:https://ondernemendhillegom.nl/evenementen/ijsopening-chocolaterie-pierre/
ATTACH;FMTTYPE=image/jpeg:https://ondernemendhillegom.nl/wp-content/uploads/2023/02/cp.jpg
END:VEVENT
END:VCALENDAR