BEGIN:VCALENDAR
VERSION:2.0
PRODID:-//Ondernemend Hillegom - ECPv6.15.20//NONSGML v1.0//EN
CALSCALE:GREGORIAN
METHOD:PUBLISH
X-WR-CALNAME:Ondernemend Hillegom
X-ORIGINAL-URL:https://ondernemendhillegom.nl
X-WR-CALDESC:Evenementen voor Ondernemend Hillegom
REFRESH-INTERVAL;VALUE=DURATION:PT1H
X-Robots-Tag:noindex
X-PUBLISHED-TTL:PT1H
BEGIN:VTIMEZONE
TZID:Europe/Amsterdam
BEGIN:DAYLIGHT
TZOFFSETFROM:+0100
TZOFFSETTO:+0200
TZNAME:CEST
DTSTART:20220327T010000
END:DAYLIGHT
BEGIN:STANDARD
TZOFFSETFROM:+0200
TZOFFSETTO:+0100
TZNAME:CET
DTSTART:20221030T010000
END:STANDARD
BEGIN:DAYLIGHT
TZOFFSETFROM:+0100
TZOFFSETTO:+0200
TZNAME:CEST
DTSTART:20230326T010000
END:DAYLIGHT
BEGIN:STANDARD
TZOFFSETFROM:+0200
TZOFFSETTO:+0100
TZNAME:CET
DTSTART:20231029T010000
END:STANDARD
BEGIN:DAYLIGHT
TZOFFSETFROM:+0100
TZOFFSETTO:+0200
TZNAME:CEST
DTSTART:20240331T010000
END:DAYLIGHT
BEGIN:STANDARD
TZOFFSETFROM:+0200
TZOFFSETTO:+0100
TZNAME:CET
DTSTART:20241027T010000
END:STANDARD
END:VTIMEZONE
BEGIN:VEVENT
DTSTART;VALUE=DATE:20230311
DTEND;VALUE=DATE:20230312
DTSTAMP:20260422T103414
CREATED:20230201T094800Z
LAST-MODIFIED:20230201T095518Z
UID:1363-1678492800-1678579199@ondernemendhillegom.nl
SUMMARY:Tweede Hillegomse Healthtour
DESCRIPTION:Op zaterdag 11 maart wordt er in Hillegom voor de tweede keer een Healthtour georganiseerd: “Health\, body & mind”\, waar alle inwoners van Hillegom gratis aan deel kunnen nemen. Deze keer doen ruim twintig bedrijven aan het evenement mee\, die hun locaties openstellen voor publiek\, maar ook collega’s\, die niet over een eigen ruimte beschikken. Het betreft een initiatief van AC Media & Events en Healthy Hillegom. De Tour gaat om 10.00 uur van start en zal tot 16.00 uur duren. Deelname aan de tour is een must om Hillegom op het gebied van sport en gezondheid nog beter te leren kennen. Het startschot van de tour zal worden gegeven door wethouder Jan van Rijn. Aanmelden voor de tour kan via www.healthyhillegom.nl/healthtour. Op deze site staan ook de activiteiten die door de deelnemers worden aangeboden. \nDe deelnemers mogen de route zelf bepalen. De locaties bieden informatie\, proeflessen en andere activiteiten. Neem snel een kijkje en meld je aan
URL:https://ondernemendhillegom.nl/evenementen/1363/
ATTACH;FMTTYPE=image/jpeg:https://ondernemendhillegom.nl/wp-content/uploads/2023/02/WhatsApp-Image-2023-02-01-at-09.59.06.jpeg
END:VEVENT
END:VCALENDAR