BEGIN:VCALENDAR
VERSION:2.0
PRODID:-//Ondernemend Hillegom - ECPv6.15.20//NONSGML v1.0//EN
CALSCALE:GREGORIAN
METHOD:PUBLISH
X-ORIGINAL-URL:https://ondernemendhillegom.nl
X-WR-CALDESC:Evenementen voor Ondernemend Hillegom
REFRESH-INTERVAL;VALUE=DURATION:PT1H
X-Robots-Tag:noindex
X-PUBLISHED-TTL:PT1H
BEGIN:VTIMEZONE
TZID:Europe/Amsterdam
BEGIN:DAYLIGHT
TZOFFSETFROM:+0100
TZOFFSETTO:+0200
TZNAME:CEST
DTSTART:20220327T010000
END:DAYLIGHT
BEGIN:STANDARD
TZOFFSETFROM:+0200
TZOFFSETTO:+0100
TZNAME:CET
DTSTART:20221030T010000
END:STANDARD
BEGIN:DAYLIGHT
TZOFFSETFROM:+0100
TZOFFSETTO:+0200
TZNAME:CEST
DTSTART:20230326T010000
END:DAYLIGHT
BEGIN:STANDARD
TZOFFSETFROM:+0200
TZOFFSETTO:+0100
TZNAME:CET
DTSTART:20231029T010000
END:STANDARD
BEGIN:DAYLIGHT
TZOFFSETFROM:+0100
TZOFFSETTO:+0200
TZNAME:CEST
DTSTART:20240331T010000
END:DAYLIGHT
BEGIN:STANDARD
TZOFFSETFROM:+0200
TZOFFSETTO:+0100
TZNAME:CET
DTSTART:20241027T010000
END:STANDARD
END:VTIMEZONE
BEGIN:VEVENT
DTSTART;TZID=Europe/Amsterdam:20230218T220000
DTEND;TZID=Europe/Amsterdam:20230219T013000
DTSTAMP:20260422T112930
CREATED:20230201T170950Z
LAST-MODIFIED:20230201T171226Z
UID:1380-1676757600-1676770200@ondernemendhillegom.nl
SUMMARY:Keytone Cops
DESCRIPTION:Keytone Cops in Orkestbak Café de Kleine Beurs \nTijdens de Muppet-Musical-audities ontmoetten Dolf\, Pieter en Wouter elkaar in 1980. Omdat ze samen muziek maken leuker vonden\, zijn ze de orkestbak ingesprongen. Sinds 1999 zijn The Keytone Cops jaarlijks te bewonderen in Café de Kleine Beurs in Hillegom. Nu op zaterdag 18 februari. \nDoor hun uitzonderlijke muzikaliteit en dynamische podium act worden de Cops beschouwd als hét rocktrio van de Bollenstreek. Alom lof is er voor hun unieke mix van klassieke rock en moderne pop. “Als zelfs balkon-critici als Blokhuis\, Derksen en van Rossum niets op ons aan te merken hebben\, dan weet je dat je goed zit”\, aldus Cops-bassist Dolf. \nThe Cops gaan in “de Beurs” los met een 007-film-titelsong\, de Nr 1 van de “Uitvaart-Top-20” en de begintune van een spraakmakende talkshow. Daarnaast hits van Queen\, Fleetwood Mac\, The Police\, The Ramones\, Billy Idol\, Mud en The Osmonds. Ook voor een lijntje Nederpop van o.a. Golden Earring\, Vitesse en Herman Brood halen The Cops hun neus niet op. \nCops-gitarist Wouter\, “Gelukkig heeft Matthijs ons nooit gevraagd voor 1 minuut speeltijd in zijn “Champions-League-van-de-Nederlandse-TV” en zijn we nu 3 Michelin-sterren in de Keukendivisie van de Nederpop”. Prijzen hebben ze nog niet gewonnen\, “Ooit willen we wel geridderd worden\, maar pas als Alexia Koningin is”\, aldus Cops-Animal Pieter. \nBeurs-uitbaters Boy en Wanda waren verrast over hun Muppets-verleden maar zijn verheugd dat ze weer komen\, “The Cops zijn altijd “Chicken in the Basket” en staan garant voor een feestelijk avondje “Pigs in Space”.
URL:https://ondernemendhillegom.nl/evenementen/1380/
ATTACH;FMTTYPE=image/jpeg:https://ondernemendhillegom.nl/wp-content/uploads/2023/02/WhatsApp-Image-2023-02-01-at-14.49.50.jpeg
END:VEVENT
END:VCALENDAR