BEGIN:VCALENDAR
VERSION:2.0
PRODID:-//Ondernemend Hillegom - ECPv6.15.20//NONSGML v1.0//EN
CALSCALE:GREGORIAN
METHOD:PUBLISH
X-WR-CALNAME:Ondernemend Hillegom
X-ORIGINAL-URL:https://ondernemendhillegom.nl
X-WR-CALDESC:Evenementen voor Ondernemend Hillegom
REFRESH-INTERVAL;VALUE=DURATION:PT1H
X-Robots-Tag:noindex
X-PUBLISHED-TTL:PT1H
BEGIN:VTIMEZONE
TZID:Europe/Amsterdam
BEGIN:DAYLIGHT
TZOFFSETFROM:+0100
TZOFFSETTO:+0200
TZNAME:CEST
DTSTART:20220327T010000
END:DAYLIGHT
BEGIN:STANDARD
TZOFFSETFROM:+0200
TZOFFSETTO:+0100
TZNAME:CET
DTSTART:20221030T010000
END:STANDARD
BEGIN:DAYLIGHT
TZOFFSETFROM:+0100
TZOFFSETTO:+0200
TZNAME:CEST
DTSTART:20230326T010000
END:DAYLIGHT
BEGIN:STANDARD
TZOFFSETFROM:+0200
TZOFFSETTO:+0100
TZNAME:CET
DTSTART:20231029T010000
END:STANDARD
BEGIN:DAYLIGHT
TZOFFSETFROM:+0100
TZOFFSETTO:+0200
TZNAME:CEST
DTSTART:20240331T010000
END:DAYLIGHT
BEGIN:STANDARD
TZOFFSETFROM:+0200
TZOFFSETTO:+0100
TZNAME:CET
DTSTART:20241027T010000
END:STANDARD
END:VTIMEZONE
BEGIN:VEVENT
DTSTART;TZID=Europe/Amsterdam:20230211T220000
DTEND;TZID=Europe/Amsterdam:20230212T013000
DTSTAMP:20260422T112835
CREATED:20230201T171057Z
LAST-MODIFIED:20230201T171129Z
UID:1383-1676152800-1676165400@ondernemendhillegom.nl
SUMMARY:Bingo & Karaoke
DESCRIPTION:Een flitsende avond voor de hippe vrouw en metro man van nu\, vol glitter en glamour\, muziek\, gezelligheid en natuurlijk kans op mooie prijzen waarmee je de wereld over kan !!! Around the world bingo & karaoke € 15\,- inclusief\, hapjes en kaarten voor 3 rondes max. 30 personen \nLocatie: De Kleine Beurs
URL:https://ondernemendhillegom.nl/evenementen/bingo-karaoke/
ATTACH;FMTTYPE=image/jpeg:https://ondernemendhillegom.nl/wp-content/uploads/2023/02/WhatsApp-Image-2023-02-01-at-15.02.16.jpeg
END:VEVENT
BEGIN:VEVENT
DTSTART;TZID=Europe/Amsterdam:20230212T170000
DTEND;TZID=Europe/Amsterdam:20230212T200000
DTSTAMP:20260422T112835
CREATED:20230201T170814Z
LAST-MODIFIED:20230201T170814Z
UID:1377-1676221200-1676232000@ondernemendhillegom.nl
SUMMARY:Jamsessie bij de Kleine Beurs
DESCRIPTION:Heb jij zin in een gezellige middag LIVE muziek of wil je graag mee spelen of zingen. Dan ben je van harte welkom op zondag 12 februari in het oudste en gezelligste café van Hillegom en omstreken. | https://fb.me/e/3ibLvjbsu
URL:https://ondernemendhillegom.nl/evenementen/jamsessie-bij-de-kleine-beurs/
ATTACH;FMTTYPE=image/jpeg:https://ondernemendhillegom.nl/wp-content/uploads/2023/02/328865803_561378885683229_6201956696518337934_n.jpg
END:VEVENT
END:VCALENDAR